BEGIN:VCALENDAR
VERSION:2.0
PRODID:icalendar-ruby
CALSCALE:GREGORIAN
METHOD:PUBLISH
BEGIN:VEVENT
DTSTAMP:20260421T112744Z
UID:77-491@carsongrahampac.ca
DTSTART:20260423T020000Z
DTEND:20260423T030000Z
CLASS:PUBLIC
CREATED:20260420T180910
DESCRIPTION:ALL PARENTS INVITED!\nJoin us for a in-person PAC Meeting in th
 e School Library!
LAST-MODIFIED:20260420T180910
LOCATION:CGS School Library
SUMMARY:PAC General Meeting
URL;VALUE=URI:https://www.carsongrahampac.ca/events/pac-general-meeting--77
 /2026-04-22
END:VEVENT
END:VCALENDAR
